BEGIN:VCALENDAR
VERSION:2.0
PRODID:-//BAcon - ECPv6.15.20//NONSGML v1.0//EN
CALSCALE:GREGORIAN
METHOD:PUBLISH
X-WR-CALNAME:BAcon
X-ORIGINAL-URL:https://bacon.boardingarea.com
X-WR-CALDESC:Events for BAcon
REFRESH-INTERVAL;VALUE=DURATION:PT1H
X-Robots-Tag:noindex
X-PUBLISHED-TTL:PT1H
BEGIN:VTIMEZONE
TZID:America/Denver
BEGIN:DAYLIGHT
TZOFFSETFROM:-0700
TZOFFSETTO:-0600
TZNAME:MDT
DTSTART:20120311T090000
END:DAYLIGHT
BEGIN:STANDARD
TZOFFSETFROM:-0600
TZOFFSETTO:-0700
TZNAME:MST
DTSTART:20121104T080000
END:STANDARD
BEGIN:DAYLIGHT
TZOFFSETFROM:-0700
TZOFFSETTO:-0600
TZNAME:MDT
DTSTART:20130310T090000
END:DAYLIGHT
BEGIN:STANDARD
TZOFFSETFROM:-0600
TZOFFSETTO:-0700
TZNAME:MST
DTSTART:20131103T080000
END:STANDARD
BEGIN:DAYLIGHT
TZOFFSETFROM:-0700
TZOFFSETTO:-0600
TZNAME:MDT
DTSTART:20140309T090000
END:DAYLIGHT
BEGIN:STANDARD
TZOFFSETFROM:-0600
TZOFFSETTO:-0700
TZNAME:MST
DTSTART:20141102T080000
END:STANDARD
BEGIN:DAYLIGHT
TZOFFSETFROM:-0700
TZOFFSETTO:-0600
TZNAME:MDT
DTSTART:20150308T090000
END:DAYLIGHT
BEGIN:STANDARD
TZOFFSETFROM:-0600
TZOFFSETTO:-0700
TZNAME:MST
DTSTART:20151101T080000
END:STANDARD
BEGIN:DAYLIGHT
TZOFFSETFROM:-0700
TZOFFSETTO:-0600
TZNAME:MDT
DTSTART:20160313T090000
END:DAYLIGHT
BEGIN:STANDARD
TZOFFSETFROM:-0600
TZOFFSETTO:-0700
TZNAME:MST
DTSTART:20161106T080000
END:STANDARD
BEGIN:DAYLIGHT
TZOFFSETFROM:-0700
TZOFFSETTO:-0600
TZNAME:MDT
DTSTART:20170312T090000
END:DAYLIGHT
BEGIN:STANDARD
TZOFFSETFROM:-0600
TZOFFSETTO:-0700
TZNAME:MST
DTSTART:20171105T080000
END:STANDARD
BEGIN:DAYLIGHT
TZOFFSETFROM:-0700
TZOFFSETTO:-0600
TZNAME:MDT
DTSTART:20180311T090000
END:DAYLIGHT
BEGIN:STANDARD
TZOFFSETFROM:-0600
TZOFFSETTO:-0700
TZNAME:MST
DTSTART:20181104T080000
END:STANDARD
BEGIN:DAYLIGHT
TZOFFSETFROM:-0700
TZOFFSETTO:-0600
TZNAME:MDT
DTSTART:20190310T090000
END:DAYLIGHT
BEGIN:STANDARD
TZOFFSETFROM:-0600
TZOFFSETTO:-0700
TZNAME:MST
DTSTART:20191103T080000
END:STANDARD
BEGIN:DAYLIGHT
TZOFFSETFROM:-0700
TZOFFSETTO:-0600
TZNAME:MDT
DTSTART:20200308T090000
END:DAYLIGHT
BEGIN:STANDARD
TZOFFSETFROM:-0600
TZOFFSETTO:-0700
TZNAME:MST
DTSTART:20201101T080000
END:STANDARD
BEGIN:DAYLIGHT
TZOFFSETFROM:-0700
TZOFFSETTO:-0600
TZNAME:MDT
DTSTART:20210314T090000
END:DAYLIGHT
BEGIN:STANDARD
TZOFFSETFROM:-0600
TZOFFSETTO:-0700
TZNAME:MST
DTSTART:20211107T080000
END:STANDARD
BEGIN:DAYLIGHT
TZOFFSETFROM:-0700
TZOFFSETTO:-0600
TZNAME:MDT
DTSTART:20220313T090000
END:DAYLIGHT
BEGIN:STANDARD
TZOFFSETFROM:-0600
TZOFFSETTO:-0700
TZNAME:MST
DTSTART:20221106T080000
END:STANDARD
BEGIN:DAYLIGHT
TZOFFSETFROM:-0700
TZOFFSETTO:-0600
TZNAME:MDT
DTSTART:20230312T090000
END:DAYLIGHT
BEGIN:STANDARD
TZOFFSETFROM:-0600
TZOFFSETTO:-0700
TZNAME:MST
DTSTART:20231105T080000
END:STANDARD
BEGIN:DAYLIGHT
TZOFFSETFROM:-0700
TZOFFSETTO:-0600
TZNAME:MDT
DTSTART:20240310T090000
END:DAYLIGHT
BEGIN:STANDARD
TZOFFSETFROM:-0600
TZOFFSETTO:-0700
TZNAME:MST
DTSTART:20241103T080000
END:STANDARD
END:VTIMEZONE
BEGIN:VEVENT
DTSTART;TZID=America/Denver:20230910T090000
DTEND;TZID=America/Denver:20230910T223000
DTSTAMP:20260419T152815
CREATED:20230615T221838Z
LAST-MODIFIED:20230616T231053Z
UID:270-1694336400-1694385000@bacon.boardingarea.com
SUMMARY:Website Review
DESCRIPTION:We’ll pick a few lucky bloggers to sit down and review their site
URL:https://bacon.boardingarea.com/agenda/website-review/
LOCATION:Venue\, 123 Street\, City\, CO\, 00000\, United States
CATEGORIES:BAcon 2023,Branding & Content Creation,Design
END:VEVENT
BEGIN:VEVENT
DTSTART;TZID=America/Denver:20130511T140000
DTEND;TZID=America/Denver:20130511T151500
DTSTAMP:20260419T152815
CREATED:20230706T222831Z
LAST-MODIFIED:20230707T220038Z
UID:453-1368280800-1368285300@bacon.boardingarea.com
SUMMARY:Website Reviews
DESCRIPTION:Watch the sparks fly as Andy Hayes critiques a handful of BoardingArea sites\, providing priceless comprehensive insight for the bloggers\, as well as the entire audience. He will provide a comprehensive action plan on how to optimize various blogs to increase revenue and reader engagement while decreasing stress. He specializes in picking apart a website from the perspective of the first-time visitor and will offer blog owners specific suggestions that work on how they can increase readership to their blog. \nAndy regularly speaks at industry events and runs Seattle-based Travel Online Partners\, a marketing firm. He’s been featured in a number of publications\, such as the Wall Street Journal\, CNN\, and National Geographic Traveler. He is well regarded as an expert on online travel and he is listed as one of the top 50 online influencers in travel. \nTakeaways \n\nPractical understanding of what blog usability is\, why it is important\, and how to track your progress on improvement\nSimple ways to gather blog feedback on a regular basis from your readers\nReal-life insights on how to improve your blog\, without a lot of technical work or hassle
URL:https://bacon.boardingarea.com/agenda/website-reviews-2014/
CATEGORIES:Advice,BAcon 2013,Design
END:VEVENT
END:VCALENDAR