BEGIN:VCALENDAR
VERSION:2.0
PRODID:-//BAcon - ECPv6.15.20//NONSGML v1.0//EN
CALSCALE:GREGORIAN
METHOD:PUBLISH
X-ORIGINAL-URL:https://bacon.boardingarea.com
X-WR-CALDESC:Events for BAcon
REFRESH-INTERVAL;VALUE=DURATION:PT1H
X-Robots-Tag:noindex
X-PUBLISHED-TTL:PT1H
BEGIN:VTIMEZONE
TZID:America/Denver
BEGIN:DAYLIGHT
TZOFFSETFROM:-0700
TZOFFSETTO:-0600
TZNAME:MDT
DTSTART:20120311T090000
END:DAYLIGHT
BEGIN:STANDARD
TZOFFSETFROM:-0600
TZOFFSETTO:-0700
TZNAME:MST
DTSTART:20121104T080000
END:STANDARD
BEGIN:DAYLIGHT
TZOFFSETFROM:-0700
TZOFFSETTO:-0600
TZNAME:MDT
DTSTART:20130310T090000
END:DAYLIGHT
BEGIN:STANDARD
TZOFFSETFROM:-0600
TZOFFSETTO:-0700
TZNAME:MST
DTSTART:20131103T080000
END:STANDARD
BEGIN:DAYLIGHT
TZOFFSETFROM:-0700
TZOFFSETTO:-0600
TZNAME:MDT
DTSTART:20140309T090000
END:DAYLIGHT
BEGIN:STANDARD
TZOFFSETFROM:-0600
TZOFFSETTO:-0700
TZNAME:MST
DTSTART:20141102T080000
END:STANDARD
BEGIN:DAYLIGHT
TZOFFSETFROM:-0700
TZOFFSETTO:-0600
TZNAME:MDT
DTSTART:20150308T090000
END:DAYLIGHT
BEGIN:STANDARD
TZOFFSETFROM:-0600
TZOFFSETTO:-0700
TZNAME:MST
DTSTART:20151101T080000
END:STANDARD
BEGIN:DAYLIGHT
TZOFFSETFROM:-0700
TZOFFSETTO:-0600
TZNAME:MDT
DTSTART:20160313T090000
END:DAYLIGHT
BEGIN:STANDARD
TZOFFSETFROM:-0600
TZOFFSETTO:-0700
TZNAME:MST
DTSTART:20161106T080000
END:STANDARD
BEGIN:DAYLIGHT
TZOFFSETFROM:-0700
TZOFFSETTO:-0600
TZNAME:MDT
DTSTART:20170312T090000
END:DAYLIGHT
BEGIN:STANDARD
TZOFFSETFROM:-0600
TZOFFSETTO:-0700
TZNAME:MST
DTSTART:20171105T080000
END:STANDARD
BEGIN:DAYLIGHT
TZOFFSETFROM:-0700
TZOFFSETTO:-0600
TZNAME:MDT
DTSTART:20180311T090000
END:DAYLIGHT
BEGIN:STANDARD
TZOFFSETFROM:-0600
TZOFFSETTO:-0700
TZNAME:MST
DTSTART:20181104T080000
END:STANDARD
BEGIN:DAYLIGHT
TZOFFSETFROM:-0700
TZOFFSETTO:-0600
TZNAME:MDT
DTSTART:20190310T090000
END:DAYLIGHT
BEGIN:STANDARD
TZOFFSETFROM:-0600
TZOFFSETTO:-0700
TZNAME:MST
DTSTART:20191103T080000
END:STANDARD
BEGIN:DAYLIGHT
TZOFFSETFROM:-0700
TZOFFSETTO:-0600
TZNAME:MDT
DTSTART:20200308T090000
END:DAYLIGHT
BEGIN:STANDARD
TZOFFSETFROM:-0600
TZOFFSETTO:-0700
TZNAME:MST
DTSTART:20201101T080000
END:STANDARD
BEGIN:DAYLIGHT
TZOFFSETFROM:-0700
TZOFFSETTO:-0600
TZNAME:MDT
DTSTART:20210314T090000
END:DAYLIGHT
BEGIN:STANDARD
TZOFFSETFROM:-0600
TZOFFSETTO:-0700
TZNAME:MST
DTSTART:20211107T080000
END:STANDARD
BEGIN:DAYLIGHT
TZOFFSETFROM:-0700
TZOFFSETTO:-0600
TZNAME:MDT
DTSTART:20220313T090000
END:DAYLIGHT
BEGIN:STANDARD
TZOFFSETFROM:-0600
TZOFFSETTO:-0700
TZNAME:MST
DTSTART:20221106T080000
END:STANDARD
BEGIN:DAYLIGHT
TZOFFSETFROM:-0700
TZOFFSETTO:-0600
TZNAME:MDT
DTSTART:20230312T090000
END:DAYLIGHT
BEGIN:STANDARD
TZOFFSETFROM:-0600
TZOFFSETTO:-0700
TZNAME:MST
DTSTART:20231105T080000
END:STANDARD
BEGIN:DAYLIGHT
TZOFFSETFROM:-0700
TZOFFSETTO:-0600
TZNAME:MDT
DTSTART:20240310T090000
END:DAYLIGHT
BEGIN:STANDARD
TZOFFSETFROM:-0600
TZOFFSETTO:-0700
TZNAME:MST
DTSTART:20241103T080000
END:STANDARD
END:VTIMEZONE
BEGIN:VEVENT
DTSTART;TZID=America/Denver:20230909T090000
DTEND;TZID=America/Denver:20230909T100000
DTSTAMP:20260421T110443
CREATED:20230615T214741Z
LAST-MODIFIED:20230616T231640Z
UID:261-1694250000-1694253600@bacon.boardingarea.com
SUMMARY:Google Analytics Workshop
DESCRIPTION:There is a lot of information in Google Analytics. In this session\, the goal is to help you understand why analytics are important\, how they work\, which reports are the most essential to know\, how do you decide which information is important … which isn’t and how to say goodbye to being overwhelmed by it all? This session will show bloggers key information to look at including goals\, funnels and filters and ways to improve your blogs performance using that data. We’ll cover data points that are most applicable to blogging and what each data point is actually telling you.
URL:https://bacon.boardingarea.com/agenda/google-analytics-workshop/
LOCATION:Venue\, 123 Street\, City\, CO\, 00000\, United States
CATEGORIES:BAcon 2023,SEO
END:VEVENT
BEGIN:VEVENT
DTSTART;TZID=America/Denver:20130511T123000
DTEND;TZID=America/Denver:20130511T134500
DTSTAMP:20260421T110443
CREATED:20230706T222423Z
LAST-MODIFIED:20230707T220047Z
UID:450-1368275400-1368279900@bacon.boardingarea.com
SUMMARY:Lunch and Affiliate Programs
DESCRIPTION:Chase\, FlexOffers\, CardSynergy | Learn more about monetizing your blog using affiliate marketing\, without compromising integrity or crippling traffic. Some of the topics covered include: how affiliate marketing works\, when to monetize your blog\, understanding affiliate agreements\, the best way to integrate affiliate links in your blog that converts\, and much more. \nHave a break and eat lunch! Feel free to have a working lunch if you can’t get enough of BAcon!
URL:https://bacon.boardingarea.com/agenda/lunch-and-affiliate-programs/
LOCATION:Phantom Canyon Brewing Company\, 2 E Pikes Peak Ave\, Colorado Springs\, CO\, 80903\, United States
CATEGORIES:Affiliate Programs,BAcon 2013,SEO
END:VEVENT
BEGIN:VEVENT
DTSTART;TZID=America/Denver:20130511T110000
DTEND;TZID=America/Denver:20130511T123000
DTSTAMP:20260421T110443
CREATED:20230706T222007Z
LAST-MODIFIED:20230707T220059Z
UID:448-1368270000-1368275400@bacon.boardingarea.com
SUMMARY:Increasing Exposure in Search Engines and More Traffic
DESCRIPTION:Led by Amanda Blain\, this session will show you some underused ways how Google+ can increase your presence in Google’s search engine with your already existing blog and posts and how to grow and expand your community. Why Google Authorship (the little picture of you showing in google results) is important and how to set it up in a few steps. \nAmanda Blain creates passionate\, action-taking\, interest-based communities. With an ever-growing base of followers across all social media channels\, including over 2 million people having circled her on Google+\, she is a tour-de-force in many social and technical areas. A self-confessed Geek Girl\, wrapped in an extrovert’s personality\, she is CEO of Girlfriend Social (an online networking hub for women)\, a speaker\, a consultant to companies looking for assistance with their social media presence\, and an enabler to the multitudes of fans reading her posts every day. She is an expert in all things Google Plus \nTakeaways \n\nHow to integrate Google Plus and your blog together\nHow to set up your blog’s Authorship\nHow to use these techniques to increase traffic\, brand\, and build readership
URL:https://bacon.boardingarea.com/agenda/increasing-exposure-in-search-engines-and-more-traffic/
LOCATION:Phantom Canyon Brewing Company\, 2 E Pikes Peak Ave\, Colorado Springs\, CO\, 80903\, United States
CATEGORIES:Analytics,BAcon 2013,SEO
END:VEVENT
BEGIN:VEVENT
DTSTART;TZID=America/Denver:20130510T163000
DTEND;TZID=America/Denver:20130510T172500
DTSTAMP:20260421T110443
CREATED:20230706T215234Z
LAST-MODIFIED:20230707T215946Z
UID:435-1368203400-1368206700@bacon.boardingarea.com
SUMMARY:SEO for the Blogger
DESCRIPTION:Search is something that changes constantly\, which means your SEO practices must constantly change to keep up. Learn how to build and maintain a prominent SEO habit that will keep you relevant in both universal and personal search results. \nSpeaker: Cindy Krum is the Chief Executive Officer of Rank-Mobile\, LLC. She brings fresh and creative ideas to her clients\, speaking at national and international trade events about mobile web marketing\, social network marketing\, and international SEO. Cindy also writes for industry publications and has been published in Website Magazine\, Advertising & Marketing Review\, Search Engine Land\, ODG Intelligence\, and quoted by many respected publications including PC World\, Internet Retailer\, TechWorld\, Direct Magazine\, and Search Marketing Standard. Cindy is passionate about bringing creative online marketing solutions to clients and working with clients to develop integrated mobile and international marketing strategies. \nTakeaways \n\nSEO has grown beyond simply building links\, comments\, and optimizing tags\nSEO is not dead\, and it’s not just technology\nGood SEO will have a significant impact on search engine rankings\, traffic\, and affiliate earning
URL:https://bacon.boardingarea.com/agenda/seo-for-the-blogger/
LOCATION:Phantom Canyon Brewing Company\, 2 E Pikes Peak Ave\, Colorado Springs\, CO\, 80903\, United States
CATEGORIES:BAcon 2013,SEO
END:VEVENT
END:VCALENDAR